BEGIN:VCALENDAR
VERSION:2.0
PRODID:-//ChamberMaster//Event Calendar 2.0//EN
METHOD:PUBLISH
X-PUBLISHED-TTL:P3D
REFRESH-INTERVAL:P3D
CALSCALE:GREGORIAN
BEGIN:VEVENT
DTSTART:20260612T203000Z
DTEND:20260612T213000Z
X-MICROSOFT-CDO-ALLDAYEVENT:FALSE
SUMMARY:Women's Self Defense
DESCRIPTION:Build confidence. Stay aware. Be prepared.\n\nSituational awareness\n\nPersonal Safety strategies\n\nHow to respond if in danger\n\n\n\nTake the first step toward feeling stronger\, safer\, and more confident.\n\nSign up required.  Space is limited.
X-ALT-DESC;FMTTYPE=text/html:Build confidence. Stay aware. Be prepared.<br />\nSituational awareness<br />\nPersonal Safety strategies<br />\nHow to respond if in danger<br />\n<br />\nTake the first step toward feeling stronger\, safer\, and more confident.<br />\nSign up required.&nbsp\; Space is limited.
LOCATION:Friends of Community Fitness 31 High St\, Ste A Guilford\, ME 04443
UID:e.3605.10828
SEQUENCE:3
DTSTAMP:20260424T061550Z
URL:https://business.piscataquischamber.com/events/details/women-s-self-defense-10828
END:VEVENT

END:VCALENDAR
