BEGIN:VCALENDAR
VERSION:2.0
PRODID:-//ChamberMaster//Event Calendar 2.0//EN
METHOD:PUBLISH
X-PUBLISHED-TTL:P3D
REFRESH-INTERVAL:P3D
CALSCALE:GREGORIAN
BEGIN:VEVENT
DTSTART:20200627T120000Z
DTEND:20200627T200000Z
X-MICROSOFT-CDO-ALLDAYEVENT:FALSE
SUMMARY:Wings & Whoopies
DESCRIPTION:Airplane Fly-In with shuttle service provided to the Whoopie Pie Festival in town.  \n\nMaine Powerchute Association will be there with powered parachutes \n\nNortheast Stol (Short Takeoff and Landing) Series Competition  \n\nWhoopie Pie Bomb Drop!!! \n\nBBQ Lunch\n\nCamping. Fly in and Camp out Friday or Saturday night or both!!\n\n\n\n\n\nBad weather day is June 28th
X-ALT-DESC;FMTTYPE=text/html:Airplane Fly-In with shuttle service provided to the Whoopie Pie Festival in town.&nbsp\;&nbsp\;<br />\nMaine Powerchute Association will be there with powered parachutes&nbsp\;<br />\nNortheast Stol (Short Takeoff and Landing) Series Competition&nbsp\;&nbsp\;<br />\nWhoopie Pie Bomb Drop!!!&nbsp\;<br />\nBBQ Lunch<br />\nCamping. Fly in and Camp out Friday or Saturday night or both!!<br />\n<br />\n<br />\nBad weather day is June 28th
LOCATION:Charles A. Chase Memorial Field (44B) Dover-Foxcroft
UID:e.3605.491
SEQUENCE:3
DTSTAMP:20260423T183724Z
URL:https://business.piscataquischamber.com/events/details/wings-whoopies-491
END:VEVENT

END:VCALENDAR
