BEGIN:VCALENDAR
VERSION:2.0
PRODID:-//ChamberMaster//Event Calendar 2.0//EN
METHOD:PUBLISH
X-PUBLISHED-TTL:P3D
REFRESH-INTERVAL:P3D
CALSCALE:GREGORIAN
BEGIN:VEVENT
DTSTART:20210626T140000Z
DTEND:20210626T160000Z
X-MICROSOFT-CDO-ALLDAYEVENT:FALSE
SUMMARY:Wild Edible Foraging with Tom Seymour
DESCRIPTION:After high demand\, Piscataquis County Soil and Water Conservation District (PCSWCD) is pleased to present another two sessions of Wild Edible Foraging Workshop on Saturday June 26th with Maine naturalist and author Tom Seymour. Tom has presented wild plant seminars across the state and we are excited to welcome him back to Piscataquis County. Tom Seymour has written several books on hiking\, fishing\, birding and foraging wild plants in New England\, along with magazine and journal articles featuring his knowledge and passion for the outdoors. There will be publications written by Tom available for purchase with autographs on the day of the event. Registration is required for this event and tickets are priced at $20. There are two sessions on June 26th\, you pick which works for you   10-12PM or 1-3PM. This workshop will be held at the Law Farm in Dover-Foxcroft. Participants are encouraged to wear hiking shoes and be prepared to explore the woods! You can find more information about Tom Seymour at www.tomseymourmaine.com. Rain date is scheduled for July 10th. If you are curious to learn more about Wild Edible Foraging and would like to come to this workshop\, please contact the Piscataquis County Soil & Water Conservation District at 207-564-2321 ext.3\, email us at info@piscataquisswcd.org or click the link above to register. This course always fills fast\, so don't wait to register!
X-ALT-DESC;FMTTYPE=text/html:After high demand\, Piscataquis County Soil and Water Conservation District (PCSWCD) is pleased to present another two sessions of Wild Edible Foraging Workshop on Saturday June 26th with Maine naturalist and author Tom Seymour. Tom has presented wild plant seminars across the state and we are excited to welcome him back to Piscataquis County. Tom Seymour has written several books on hiking\, fishing\, birding and foraging wild plants in New England\, along with magazine and journal articles featuring his knowledge and passion for the outdoors. There will be publications written by Tom available for purchase with autographs on the day of the event. Registration is required for this event and tickets are priced at $20. There are two sessions on June 26th\, you pick which works for you &ndash\; 10-12PM or 1-3PM. This workshop will be held at the Law Farm in Dover-Foxcroft. Participants are encouraged to wear hiking shoes and be prepared to explore the woods! You can find more information about Tom Seymour at www.tomseymourmaine.com. Rain date is scheduled for July 10th. If you are curious to learn more about Wild Edible Foraging and would like to come to this workshop\, please contact the Piscataquis County Soil &amp\; Water Conservation District at 207-564-2321 ext.3\, email us at info@piscataquisswcd.org or click the link above to register. This course always fills fast\, so don&rsquo\;t wait to register!
LOCATION:Dover-Foxcroft
UID:e.3605.755
SEQUENCE:3
DTSTAMP:20260425T182200Z
URL:https://business.piscataquischamber.com/events/details/wild-edible-foraging-with-tom-seymour-06-26-2021-755
END:VEVENT

END:VCALENDAR
