BEGIN:VCALENDAR
VERSION:2.0
PRODID:-//ChamberMaster//Event Calendar 2.0//EN
METHOD:PUBLISH
X-PUBLISHED-TTL:P3D
REFRESH-INTERVAL:P3D
CALSCALE:GREGORIAN
BEGIN:VEVENT
DTSTART:20230624T140000Z
DTEND:20230624T200000Z
X-MICROSOFT-CDO-ALLDAYEVENT:FALSE
SUMMARY:Whoopie Pie Festival-Maine Author Book Signing
DESCRIPTION:Book Signing Meet Maine Author\, and retired Supervisor of the Allagash Wilderness Waterway Tim Caverly. Tim has written and published 12 books about his experiences in Maine's northern forest.
X-ALT-DESC;FMTTYPE=text/html:Book Signing Meet Maine Author\, and retired Supervisor of the Allagash Wilderness Waterway Tim Caverly. Tim has written and published 12 books about his experiences in Maine&#39\;s northern forest.
LOCATION:Dover Foxcroft
UID:e.3605.2535
SEQUENCE:3
DTSTAMP:20260420T174042Z
URL:https://business.piscataquischamber.com/events/details/whoopie-pie-festival-maine-author-book-signing-2535
END:VEVENT

END:VCALENDAR
