BEGIN:VCALENDAR
VERSION:2.0
PRODID:-//ChamberMaster//Event Calendar 2.0//EN
METHOD:PUBLISH
X-PUBLISHED-TTL:P3D
REFRESH-INTERVAL:P3D
CALSCALE:GREGORIAN
BEGIN:VEVENT
DTSTART:20220705T210000Z
DTEND:20220705T230000Z
X-MICROSOFT-CDO-ALLDAYEVENT:FALSE
SUMMARY:Tap 62 Grand Opening / Ribbon Cutting
DESCRIPTION:Please join us for the GRAND OPENING of TAP 62\, Dover-Foxcroft's Lounge. Cash-bar will be available\, as well as menu samples and door prizes.
X-ALT-DESC;FMTTYPE=text/html:<p><span style="font-size:18px\;"><span style="font-family:tahoma\;">Please join us for the GRAND OPENING of TAP 62\, Dover-Foxcroft&#39\;s Lounge. Cash-bar will be available\, as well as menu samples and door prizes.</span></span></p>\n
LOCATION:920 W Main St.\, Dover-Foxcroft
UID:e.3605.2409
SEQUENCE:3
DTSTAMP:20260424T150132Z
URL:https://business.piscataquischamber.com/events/details/tap-62-grand-opening-ribbon-cutting-2409
END:VEVENT

END:VCALENDAR
