BEGIN:VCALENDAR
VERSION:2.0
PRODID:-//ChamberMaster//Event Calendar 2.0//EN
METHOD:PUBLISH
X-PUBLISHED-TTL:P3D
REFRESH-INTERVAL:P3D
CALSCALE:GREGORIAN
BEGIN:VEVENT
DTSTART:20260507T213000Z
DTEND:20260625T221500Z
X-MICROSOFT-CDO-ALLDAYEVENT:FALSE
SUMMARY:Strength & Stamina Class- Thursdays through 6/25
DESCRIPTION:A high-energy\, total-body workout combining resistance training with cardiovascular intervals to build muscle\, boost endurance\, and torch calories!
X-ALT-DESC;FMTTYPE=text/html:A high-energy\, total-body workout combining resistance training with cardiovascular intervals to build muscle\, boost endurance\, and torch calories!
LOCATION:Friends of Community Fitness 31 High St\, Ste A Guilford\, ME 04443
UID:e.3605.10851
SEQUENCE:3
DTSTAMP:20260424T061446Z
URL:https://business.piscataquischamber.com/events/details/strength-stamina-class-thursdays-through-6-25-10851
END:VEVENT

END:VCALENDAR
