BEGIN:VCALENDAR
VERSION:2.0
PRODID:-//ChamberMaster//Event Calendar 2.0//EN
METHOD:PUBLISH
X-PUBLISHED-TTL:P3D
REFRESH-INTERVAL:P3D
CALSCALE:GREGORIAN
BEGIN:VEVENT
DTSTART:20220804T220000Z
DTEND:20220804T230000Z
X-MICROSOFT-CDO-ALLDAYEVENT:FALSE
SUMMARY:State of the Loons w/ Maine Audubon
DESCRIPTION:Maine Audubon has worked for 40 years to better understand how Maine's iconic Common Loons are faring. Watch to learn about the biology of these beautiful birds\, and what we're doing to protect them.
X-ALT-DESC;FMTTYPE=text/html:<span style="color:rgb(34\, 34\, 34)\; font-family:arial\,helvetica\,sans-serif\; font-size:small">Maine Audubon has worked&nbsp\;for 40 years to better understand how Maine&#39\;s iconic Common&nbsp\;</span><span style="color:rgb(34\, 34\, 34)\; font-family:arial\,helvetica\,sans-serif\; font-size:small">Loons</span><span style="color:rgb(34\, 34\, 34)\; font-family:arial\,helvetica\,sans-serif\; font-size:small">&nbsp\;are faring. Watch to learn about&nbsp\;</span><span style="color:rgb(34\, 34\, 34)\; font-family:arial\,helvetica\,sans-serif\; font-size:small">the</span><span style="color:rgb(34\, 34\, 34)\; font-family:arial\,helvetica\,sans-serif\; font-size:small">&nbsp\;biology&nbsp\;</span><span style="color:rgb(34\, 34\, 34)\; font-family:arial\,helvetica\,sans-serif\; font-size:small">of</span><span style="color:rgb(34\, 34\, 34)\; font-family:arial\,helvetica\,sans-serif\; font-size:small">&nbsp\;these beautiful&nbsp\;</span><span style="color:rgb(34\, 34\, 34)\; font-family:arial\,helvetica\,sans-serif\; font-size:small">birds</span><span style="color:rgb(34\, 34\, 34)\; font-family:arial\,helvetica\,sans-serif\; font-size:small">\, and what we&#39\;re doing to protect them.</span>
LOCATION:Thompson Free Library
UID:e.3605.2177
SEQUENCE:3
DTSTAMP:20260422T111801Z
URL:https://business.piscataquischamber.com/events/details/state-of-the-loons-w-maine-audubon-2177
END:VEVENT

END:VCALENDAR
