BEGIN:VCALENDAR
VERSION:2.0
PRODID:-//ChamberMaster//Event Calendar 2.0//EN
METHOD:PUBLISH
X-PUBLISHED-TTL:P3D
REFRESH-INTERVAL:P3D
CALSCALE:GREGORIAN
BEGIN:VEVENT
DTSTART:20260420T213000Z
DTEND:20260518T223000Z
X-MICROSOFT-CDO-ALLDAYEVENT:FALSE
SUMMARY:Singing Squad- Mondays through May 18th
DESCRIPTION:Join us Monday's at 5:30PM for a fun time of singing!\n\nTogether we will enjoy lifting our voices to our favorite classic songs from the 60's\, 70's\, 80's and more!  \n\nBring a friend and your song suggestions.\n\nAll abilities are welcome.  \n\nNo auditions...just singing together!\n\nFREE for all!\n\n(NO fees. NO membership required)\n\nEnds May 18th
X-ALT-DESC;FMTTYPE=text/html:<span style="font-family:pt serif"><span style="font-size:20.0pt">Join us </span></span><strong><span style="font-family:pt serif"><span style="font-size:20.0pt">Monday&rsquo\;s at 5:30PM </span></span></strong><span style="font-family:pt serif"><span style="font-size:20.0pt">for a fun time of singing!</span></span><br />\n<span style="font-family:pt serif"><span style="font-size:20.0pt">Together we will enjoy lifting our voices to our favorite classic songs from the 60&rsquo\;s\, 70&rsquo\;s\, 80&rsquo\;s and more!&nbsp\; </span></span><br />\n<span style="font-family:pt serif"><span style="font-size:20.0pt">Bring a friend and your song suggestions.</span></span><br />\n<span style="font-family:pt serif"><span style="font-size:20.0pt">All abilities are welcome.&nbsp\; </span></span><br />\n<span style="font-family:pt serif"><span style="font-size:20.0pt">No auditions...just singing together!</span></span><br />\n<u><span style="color:#C00000"><span style="font-family:pt serif"><span style="font-size:30.0pt">FREE for all!</span></span></span></u><br />\n<strong><span style="color:#C00000"><span style="font-family:pt serif"><span style="font-size:18.0pt">(NO fees. NO membership required)</span></span></span></strong><br />\n<strong><span style="color:#C00000"><span style="font-family:pt serif"><span style="font-size:18.0pt">Ends May 18th </span></span></span></strong><br />\n&nbsp\;
LOCATION:Friends of Community Fitness 31 High St\, Ste A Guilford\, ME 04443
UID:e.3605.10859
SEQUENCE:3
DTSTAMP:20260422T181552Z
URL:https://business.piscataquischamber.com/events/details/singing-squad-mondays-through-may-18th-10859
END:VEVENT

END:VCALENDAR
