BEGIN:VCALENDAR
VERSION:2.0
PRODID:-//ChamberMaster//Event Calendar 2.0//EN
METHOD:PUBLISH
X-PUBLISHED-TTL:P3D
REFRESH-INTERVAL:P3D
CALSCALE:GREGORIAN
BEGIN:VEVENT
DTSTART:20220703T230000Z
DTEND:20220704T020000Z
X-MICROSOFT-CDO-ALLDAYEVENT:FALSE
SUMMARY:Sebec July 3rd Celebration
DESCRIPTION:You've never experienced Fireworks until you've been in the middle of them going over your head !!! Hamburgers\, Hotdogs and Gluten Free Veggie burgers with sides\, beverages and Whoopie Pies will be available starting at 7 pm. Fireworks will be launched at dusk. This event precedes all of the July 4th fun that takes place in Sebec Village .
X-ALT-DESC;FMTTYPE=text/html:You&#39\;ve never experienced Fireworks until you&#39\;ve been in the middle of them going over your head !!! Hamburgers\, Hotdogs and Gluten Free Veggie burgers with sides\, beverages and Whoopie Pies will be available starting at 7 pm. Fireworks will be launched at dusk. This event precedes all of the July 4th fun that takes place in Sebec Village .
LOCATION:Sebec Reading Room 665 Sebec Village Road Sebec\, Maine
UID:e.3605.2221
SEQUENCE:3
DTSTAMP:20260422T095833Z
URL:https://business.piscataquischamber.com/events/details/sebec-july-3rd-celebration-2221
END:VEVENT

END:VCALENDAR
