BEGIN:VCALENDAR
VERSION:2.0
PRODID:-//ChamberMaster//Event Calendar 2.0//EN
METHOD:PUBLISH
X-PUBLISHED-TTL:P3D
REFRESH-INTERVAL:P3D
CALSCALE:GREGORIAN
BEGIN:VEVENT
DTSTART:20240315T210000Z
DTEND:20240315T230000Z
X-MICROSOFT-CDO-ALLDAYEVENT:FALSE
SUMMARY:PVHS Key Club Empty Bowl
DESCRIPTION:The PVHS Key club has been making at least 100 pottery bowls to be given to ticket holders at the Empty Bowl dinner. $12 will get you a hearty helping of your choice of homemade soup\, a roll and beverage. The bowls will be on display during the meal and you can pick your favorite to take home with you. All the proceeds from this fundraiser will be given to Dyer's Hope House and Jean's Blessings in Milo to help fight food insecurity.
X-ALT-DESC;FMTTYPE=text/html:The PVHS Key club has been making at least 100 pottery bowls to be given to ticket holders at the Empty Bowl dinner. $12 will get you a hearty helping of your choice of homemade soup\, a roll and beverage. The bowls will be on display during the meal and you can pick your favorite to take home with you. All the proceeds from this fundraiser will be given to Dyer&#39\;s Hope House and Jean&#39\;s Blessings in Milo to help fight food insecurity.
LOCATION:Kiwanis Hall\, 15 Harris Pond Rd\, Milo
UID:e.3605.3598
SEQUENCE:3
DTSTAMP:20260419T163558Z
URL:https://business.piscataquischamber.com/events/details/pvhs-key-club-empty-bowl-3598
END:VEVENT

END:VCALENDAR
