BEGIN:VCALENDAR
VERSION:2.0
PRODID:-//ChamberMaster//Event Calendar 2.0//EN
METHOD:PUBLISH
X-PUBLISHED-TTL:P3D
REFRESH-INTERVAL:P3D
CALSCALE:GREGORIAN
BEGIN:VEVENT
DTSTART:20240310T160000Z
DTEND:20240310T180000Z
X-MICROSOFT-CDO-ALLDAYEVENT:FALSE
SUMMARY:Piano Concert in Sangerville
DESCRIPTION:A Classical Piano Concert will be offered by Margery Aumann\, pianist\, at 3:00 PM\, Sunday\, March 10\, at the First Universalist Church of Sangerville and Dover-Foxcroft\, Corner of Church Street and Rt. 23. The program will include works by Rameau\, Mozart\, Chopin\, Schumann\, and Ravel. Highlighted will be the Sonata in A-Major\, K. 331\, by Mozart\, including the well-known "Rondo Alla Turca." Admission is by donation and a reception follows. This concert will also be presented at the Dover-Foxcroft Congregational Church at 3:00 PM\, Sunday March 17. For more information\, please call 207-564-0043.
X-ALT-DESC;FMTTYPE=text/html:A Classical Piano Concert will be offered by Margery Aumann\, pianist\, at 3:00 PM\, Sunday\, March 10\, at the First Universalist Church of Sangerville and Dover-Foxcroft\, Corner of Church Street and Rt. 23. The program will include works by Rameau\, Mozart\, Chopin\, Schumann\, and Ravel. Highlighted will be the Sonata in A-Major\, K. 331\, by Mozart\, including the well-known &ldquo\;Rondo Alla Turca.&rdquo\; Admission is by donation and a reception follows. This concert will also be presented at the Dover-Foxcroft Congregational Church at 3:00 PM\, Sunday March 17. For more information\, please call 207-564-0043.
LOCATION:First Universalist Church of Sangerville and Dover-Foxcroft\, 1 Church St.\, Sangerville\, ME
UID:e.3605.3599
SEQUENCE:3
DTSTAMP:20260419T175553Z
URL:https://business.piscataquischamber.com/events/details/piano-concert-in-sangerville-3599
END:VEVENT

END:VCALENDAR
