BEGIN:VCALENDAR
VERSION:2.0
PRODID:-//ChamberMaster//Event Calendar 2.0//EN
METHOD:PUBLISH
X-PUBLISHED-TTL:P3D
REFRESH-INTERVAL:P3D
CALSCALE:GREGORIAN
BEGIN:VEVENT
DTSTART:20231028T200000Z
DTEND:20231028T220000Z
X-MICROSOFT-CDO-ALLDAYEVENT:FALSE
SUMMARY:Oktoberfest at the Commons
DESCRIPTION:Wilkommen to an Oktoberfest on Saturday\, October 28 from 4:00-6:00 pm presented by the Maine Highlands Council for the Arts! Dance to the music of the Harold J. Crosby Polka band\, enjoy delicious bratwurst\, locally homemade sauerkraut\, and pretzels from Vails Icelandic Bakery (included with admission). Two Knights Brewery of Sangerville will sell their craft beers. Non alcoholic beverages will also be available. This promises to be a fun and joyful celebration of German food and culture. Polka dancing is encouraged and will be taught! Admission is $15. Tickets may be purchased here: https://www.eventbrite.com/e/oktoberfest-tickets-730613483597?aff=oddtdtcreator There may be some tickets available at the door as well. For more information\, email arts@centralhallcommons.org or call 207-598-6398
X-ALT-DESC;FMTTYPE=text/html:Wilkommen to an Oktoberfest on Saturday\, October 28 from 4:00-6:00 pm presented by the Maine Highlands Council for the Arts! Dance to the music of the Harold J. Crosby Polka band\, enjoy delicious bratwurst\, locally homemade sauerkraut\, and pretzels from Vails Icelandic Bakery (included with admission). Two Knights Brewery of Sangerville will sell their craft beers. Non alcoholic beverages will also be available. This promises to be a fun and joyful celebration of German food and culture. Polka dancing is encouraged and will be taught! Admission is $15. Tickets may be purchased here: https://www.eventbrite.com/e/oktoberfest-tickets-730613483597?aff=oddtdtcreator There may be some tickets available at the door as well. For more information\, email arts@centralhallcommons.org or call 207-598-6398
LOCATION:Central Hall Commons 152 East Main Street Dover-Foxcroft\, ME 04426
UID:e.3605.3065
SEQUENCE:3
DTSTAMP:20260420T113157Z
URL:https://business.piscataquischamber.com/events/details/oktoberfest-at-the-commons-3065
END:VEVENT

END:VCALENDAR
