BEGIN:VCALENDAR
VERSION:2.0
PRODID:-//ChamberMaster//Event Calendar 2.0//EN
METHOD:PUBLISH
X-PUBLISHED-TTL:P3D
REFRESH-INTERVAL:P3D
CALSCALE:GREGORIAN
BEGIN:VEVENT
DTSTART:20221007T120000Z
DTEND:20221007T130000Z
X-MICROSOFT-CDO-ALLDAYEVENT:FALSE
SUMMARY:October Biz Fit: Celebrate World Smile Day
DESCRIPTION:Celebrate World Smile Day with the WBC ?? What puts a smile on your face? Customers? Sourcing or creating wonderful products? Giving great service? How do you make your customers and clients smile? What do they most appreciate? What joy do you bring them? What is a great example of when you've turned a frown into a smile (yours or your customer's)? Let's share tips\, suggestions\, examples and make each other smile over a cup of morning coffee or tea. This is an informal space for women to connect\, network and learn together about keeping their business\, and themselves\, fit! FREE Register Today! https://wbc.ceimaine.org/workshop.aspx?ekey=95420045 Hosted By: Coastal Enterprises\, Inc. Women's Business Center Questions? Contact: Tara Clark tara.clark@ceimaine.org
X-ALT-DESC;FMTTYPE=text/html:Celebrate World Smile Day with the WBC ?? What puts a smile on your face? Customers? Sourcing or creating wonderful products? Giving great service? How do you make your customers and clients smile? What do they most appreciate? What joy do you bring them? What is a great example of when you&rsquo\;ve turned a frown into a smile (yours or your customer&rsquo\;s)? Let&rsquo\;s share tips\, suggestions\, examples and make each other smile over a cup of morning coffee or tea. This is an informal space for women to connect\, network and learn together about keeping their business\, and themselves\, fit! FREE Register Today! https://wbc.ceimaine.org/workshop.aspx?ekey=95420045 Hosted By: Coastal Enterprises\, Inc. Women&#39\;s Business Center Questions? Contact: Tara Clark tara.clark@ceimaine.org
LOCATION:Zoom
UID:e.3605.2445
SEQUENCE:3
DTSTAMP:20260422T022210Z
URL:https://business.piscataquischamber.com/events/details/october-biz-fit-celebrate-world-smile-day-2445
END:VEVENT

END:VCALENDAR
