BEGIN:VCALENDAR
VERSION:2.0
PRODID:-//ChamberMaster//Event Calendar 2.0//EN
METHOD:PUBLISH
X-PUBLISHED-TTL:P3D
REFRESH-INTERVAL:P3D
CALSCALE:GREGORIAN
BEGIN:VEVENT
DTSTART;VALUE=DATE:20220811
DTEND;VALUE=DATE:20220812
TRANSP:TRANSPARENT
X-MICROSOFT-CDO-ALLDAYEVENT:TRUE
SUMMARY:Northern Light CA Dean Forrest G. Whitman Golf Tournament
DESCRIPTION:Come join us for an exciting day of golf at the historic Mt. Kineo Golf Course on spectacular Moosehead Lake!  The annual golf tournament benefits the Forrest G. Whitman Scholarship Fund.  Your participation helps provide local students with support and an opportunity to advance their educational goals.
X-ALT-DESC;FMTTYPE=text/html:Come join us for an exciting day of golf at the historic Mt. Kineo Golf Course on spectacular Moosehead Lake!&nbsp\; The annual golf tournament benefits the Forrest G. Whitman Scholarship Fund.&nbsp\;&nbsp\;Your participation helps provide local students with support and an opportunity to advance their educational goals.&nbsp\;&nbsp\;<br />\n<br />\n&nbsp\;
LOCATION:Come play at one of New England's oldest and most scenic golf courses--Mt. Kineo Golf Course on beautiful Moosehead Lake!
UID:e.3605.2268
SEQUENCE:3
DTSTAMP:20260422T105404Z
URL:https://business.piscataquischamber.com/events/details/northern-light-ca-dean-forrest-g-whitman-golf-tournament-2268
END:VEVENT

END:VCALENDAR
