BEGIN:VCALENDAR
VERSION:2.0
PRODID:-//ChamberMaster//Event Calendar 2.0//EN
METHOD:PUBLISH
X-PUBLISHED-TTL:P3D
REFRESH-INTERVAL:P3D
CALSCALE:GREGORIAN
BEGIN:VEVENT
DTSTART:20240329T223000Z
DTEND:20240329T233000Z
X-MICROSOFT-CDO-ALLDAYEVENT:FALSE
SUMMARY:Naloxone education and distribution event - Milo
DESCRIPTION:Participants will learn how to administer nasal naloxone and will receive naloxone kits at no cost. Naloxone\, sometimes known as Narcan\, can reverse the effects of an opioid overdose. With the influx of visitors expected into the area to view the eclipse\, it's a good time to learn how to recognize and respond to an overdose. There is no cost to attend.
X-ALT-DESC;FMTTYPE=text/html:<span style="font-family:tahoma\;"><span style="font-size:14px\;"><span style="color:#333333">Participants will learn how to administer nasal naloxone and will receive naloxone kits at no cost. Naloxone\, sometimes known as Narcan\, can reverse the effects of an opioid overdose.&nbsp\;</span><span style="color:#333333">With the influx of visitors expected into the area to view the eclipse\, it&rsquo\;s a good time to learn how to recognize and respond to an overdose. There is no cost to attend.</span></span></span>
LOCATION:Milo Town Hall\, 6 Pleasant St.\, Milo
UID:e.3605.3622
SEQUENCE:3
DTSTAMP:20260419T163035Z
URL:https://business.piscataquischamber.com/events/details/naloxone-education-and-distribution-event-milo-3622
END:VEVENT

END:VCALENDAR
