BEGIN:VCALENDAR
VERSION:2.0
PRODID:-//ChamberMaster//Event Calendar 2.0//EN
METHOD:PUBLISH
X-PUBLISHED-TTL:P3D
REFRESH-INTERVAL:P3D
CALSCALE:GREGORIAN
BEGIN:VEVENT
DTSTART:20260420T213000Z
DTEND:20260629T221500Z
X-MICROSOFT-CDO-ALLDAYEVENT:FALSE
SUMMARY:Muscle Max Class - Weekly on Mondays through 6/29
DESCRIPTION:Push your muscles to the MAX! \n\nUse dumbbells\, resistance bands and your own bodyweight in this full-body workout targeting the major muscle groups of the upper and lower body. Gain muscle mass and tone while focusing on proper form to keep yourself safe.  \n\nLeave class feeing STRONG!
X-ALT-DESC;FMTTYPE=text/html:<span style="font-family:pt serif"><span style="font-size:20.0pt">Push your muscles to the MAX! </span></span><br />\n<span style="font-family:pt serif"><span style="font-size:20.0pt">Use dumbbells\, resistance bands and your own bodyweight in this full-body workout targeting the major muscle groups of the upper and lower body. Gain muscle mass and tone while focusing on proper form to keep yourself safe.&nbsp\; </span></span><br />\n<span style="font-family:pt serif"><span style="font-size:20.0pt">Leave class feeing STRONG! </span></span><br />\n&nbsp\;
LOCATION:Friends of Community Fitness 31 High St\, Ste A Guilford\, ME 04443
UID:e.3605.10865
SEQUENCE:3
DTSTAMP:20260422T181927Z
URL:https://business.piscataquischamber.com/events/details/muscle-max-class-weekly-on-mondays-through-6-29-10865
END:VEVENT

END:VCALENDAR
