BEGIN:VCALENDAR
VERSION:2.0
PRODID:-//ChamberMaster//Event Calendar 2.0//EN
METHOD:PUBLISH
X-PUBLISHED-TTL:P3D
REFRESH-INTERVAL:P3D
CALSCALE:GREGORIAN
BEGIN:VEVENT
DTSTART:20210509T173000Z
DTEND:20210509T203000Z
X-MICROSOFT-CDO-ALLDAYEVENT:FALSE
SUMMARY:Mother’s Day High Tea
DESCRIPTION:Come and celebrate Mother's Day by attending a traditional high tea at the Guilford Bed And Breakfast. It's a "dress-up" affair\, so posh up your accent and wear your finest fascinator (hat) just for fun! Limited seating. Reservations/tickets are required. Two seatings\; 1:00 pm and 3:00 pm. Visit www.guilfordbnb.com/event-reservations to reserve your ticket\, or call 207-876-3477.
X-ALT-DESC;FMTTYPE=text/html:Come and celebrate Mother&rsquo\;s Day by attending a traditional high tea at the Guilford Bed And Breakfast. It&rsquo\;s a &ldquo\;dress-up&rdquo\; affair\, so posh up your accent and wear your finest fascinator (hat) just for fun! Limited seating. Reservations/tickets are required. Two seatings\; 1:00 pm and 3:00 pm. Visit www.guilfordbnb.com/event-reservations to reserve your ticket\, or call 207-876-3477.
LOCATION:Guilford Bed and Breakfast\, 24 Elm Street\, Guilford\, ME
UID:e.3605.1024
SEQUENCE:3
DTSTAMP:20260425T224026Z
URL:https://business.piscataquischamber.com/events/details/mother-s-day-high-tea-1024
END:VEVENT

END:VCALENDAR
