BEGIN:VCALENDAR
VERSION:2.0
PRODID:-//ChamberMaster//Event Calendar 2.0//EN
METHOD:PUBLISH
X-PUBLISHED-TTL:P3D
REFRESH-INTERVAL:P3D
CALSCALE:GREGORIAN
BEGIN:VEVENT
DTSTART:20210717T130000Z
DTEND:20210718T020000Z
X-MICROSOFT-CDO-ALLDAYEVENT:FALSE
SUMMARY:Monson Summerfest
DESCRIPTION:Monson's Annual Summertime event! Events and craft fair set up through out downtown Monson. The day ends with the always spectacular Monson fireworks display.\n\n \n\nCLICK HERE for details and a printable copy of the schedule:
X-ALT-DESC;FMTTYPE=text/html:<p>Monson&#39\;s Annual Summertime event! Events and craft fair set up through out downtown Monson. The day ends with the always spectacular Monson fireworks display.</p>\n\n<p>&nbsp\;</p>\n\n<p>CLICK <a href="https://myemail.constantcontact.com/Monson-SUMMERFEST-is-THIS-SATURDAY-.html?soid=1109427194151&amp\;aid=Ioxm4b-J9dQ&amp\;fbclid=IwAR3H0rZnzs_MzSJiqQQyzEwEnun6XK7XDCTbMJtl7RAi3jp5LPEdkcC8HdA">HERE</a> for details and a printable copy of the schedule:</p>\n\n<p><br />\n<br />\n&nbsp\;</p>\n
LOCATION:All of Downtown Monson
UID:e.3605.735
SEQUENCE:3
DTSTAMP:20260425T113338Z
URL:https://business.piscataquischamber.com/events/details/monson-summerfest-735
END:VEVENT

END:VCALENDAR
