BEGIN:VCALENDAR
VERSION:2.0
PRODID:-//ChamberMaster//Event Calendar 2.0//EN
METHOD:PUBLISH
X-PUBLISHED-TTL:P3D
REFRESH-INTERVAL:P3D
CALSCALE:GREGORIAN
BEGIN:VEVENT
DTSTART:20220604T130000Z
DTEND:20220604T190000Z
X-MICROSOFT-CDO-ALLDAYEVENT:FALSE
SUMMARY:Milo Black Fly Festival
DESCRIPTION:The Milo Black Fly Festival is BACK on June 4th!\n\nJoin us for live music\, crafters\, food trucks\, a parade\, and more from 9am to 3pm.\n\nClick HERE for **VENDOR APPLICATION**
X-ALT-DESC;FMTTYPE=text/html:<p><span style="font-family:tahoma\;"><span style="font-size:14px\;"><strong>The Milo Black Fly Festival is BACK on June 4th!</strong></span></span></p>\n\n<p><span style="font-family:tahoma\;">Join us for live music\, crafters\, food trucks\, a parade\, and more from 9am to 3pm.</span></p>\n\n<p><span style="font-family:tahoma\;"><a href="https://www.milomaine.org/vertical/sites/%7BBD7BD737-DA69-4EAE-9327-F45463BA534B%7D/uploads/DOC001.pdf">Click HERE for **VENDOR APPLICATION**</a></span></p>\n
LOCATION:Downtown Milo\, Maine
UID:e.3605.2186
SEQUENCE:3
DTSTAMP:20260424T180501Z
URL:https://business.piscataquischamber.com/events/details/milo-black-fly-festival-2186
END:VEVENT

END:VCALENDAR
