BEGIN:VCALENDAR
VERSION:2.0
PRODID:-//ChamberMaster//Event Calendar 2.0//EN
METHOD:PUBLISH
X-PUBLISHED-TTL:P3D
REFRESH-INTERVAL:P3D
CALSCALE:GREGORIAN
BEGIN:VEVENT
DTSTART:20240107T010000Z
DTEND:20240107T040000Z
X-MICROSOFT-CDO-ALLDAYEVENT:FALSE
SUMMARY:Mark and Trisha Duo
DESCRIPTION:Acoustical Music Duo
X-ALT-DESC;FMTTYPE=text/html:Acoustical Music Duo
LOCATION:Red Maple Inn 5 N Main St\, Guilford\, ME
UID:e.3605.3377
SEQUENCE:3
DTSTAMP:20260420T031635Z
URL:https://business.piscataquischamber.com/events/details/mark-and-trisha-duo-3377
END:VEVENT

END:VCALENDAR
