BEGIN:VCALENDAR
VERSION:2.0
PRODID:-//ChamberMaster//Event Calendar 2.0//EN
METHOD:PUBLISH
X-PUBLISHED-TTL:P3D
REFRESH-INTERVAL:P3D
CALSCALE:GREGORIAN
BEGIN:VEVENT
DTSTART;VALUE=DATE:20260502
DTEND;VALUE=DATE:20260503
TRANSP:TRANSPARENT
X-MICROSOFT-CDO-ALLDAYEVENT:TRUE
SUMMARY:Kiwanis Bike Safety Rodeo
DESCRIPTION:The Annual Kiwanis Bike Safety Rodeo for kids ages 4-10 yrs  is designed to encourage and teach kids how to ride bikes safely\, teaching the Rules of the Road\, and giving kids an opportunity to test their skills riding a closed course designed by educators of the Bike Coalition of Maine.\n\nThe event includes a free fitted bike helmet and a mechanical inspection of your bike.   \n\nHot dogs and pony rides by donation.   \n\nFree bike raffle--win a new bike!
X-ALT-DESC;FMTTYPE=text/html:<strong>The Annual Kiwanis Bike Safety Rodeo for kids ages 4-10 yrs&nbsp\; is designed to encourage and teach kids how to ride bikes safely\, teaching the Rules of the Road\, and giving kids an opportunity to test their skills riding a closed course designed by educators of the Bike Coalition of Maine.<br />\nThe event includes a free fitted bike helmet and a mechanical inspection of your bike.&nbsp\; &nbsp\;<br />\nHot dogs and pony rides by donation.&nbsp\; &nbsp\;<br />\nFree bike raffle--win a new bike!&nbsp\;&nbsp\;</strong>
LOCATION:On the paved courts at the PACC Piscataquis Area Community Center and Kiwanis Park. 48 Park St\, Dover-Foxcroft\, Maine
UID:e.3605.7335
SEQUENCE:3
DTSTAMP:20260424T013602Z
URL:https://business.piscataquischamber.com/events/details/kiwanis-bike-rodeo-7335
END:VEVENT

END:VCALENDAR
