BEGIN:VCALENDAR
VERSION:2.0
PRODID:-//ChamberMaster//Event Calendar 2.0//EN
METHOD:PUBLISH
X-PUBLISHED-TTL:P3D
REFRESH-INTERVAL:P3D
CALSCALE:GREGORIAN
BEGIN:VEVENT
DTSTART:20210508T140000Z
DTEND:20210508T150000Z
X-MICROSOFT-CDO-ALLDAYEVENT:FALSE
SUMMARY:K -Ducky Derby
DESCRIPTION:On May 8th we will be holding our first annual K-Ducky Derby at the Kiwanis Park in Dover-Foxcroft. Ducks are a $5 donation (you will not receive the racing duck but you may get a really cool looking duck!). For more information\, click HERE: https://www.facebook.com/events/1419649365035187
X-ALT-DESC;FMTTYPE=text/html:On May 8th we will be holding our first annual K-Ducky Derby at the Kiwanis Park in Dover-Foxcroft. Ducks are a $5 donation (you will not receive the racing duck but you may get a really cool looking duck!). For more information\, click HERE: https://www.facebook.com/events/1419649365035187
LOCATION:Kiwanis Park
UID:e.3605.764
SEQUENCE:3
DTSTAMP:20260425T223852Z
URL:https://business.piscataquischamber.com/events/details/k-ducky-derby-764
END:VEVENT

END:VCALENDAR
