BEGIN:VCALENDAR
VERSION:2.0
PRODID:-//ChamberMaster//Event Calendar 2.0//EN
METHOD:PUBLISH
X-PUBLISHED-TTL:P3D
REFRESH-INTERVAL:P3D
CALSCALE:GREGORIAN
BEGIN:VEVENT
DTSTART:20260602T210000Z
DTEND:20260630T220000Z
X-MICROSOFT-CDO-ALLDAYEVENT:FALSE
SUMMARY:Intro to line dancing classes- Tuesdays through 6/30
DESCRIPTION:Get ready to move\, laugh\, and have fun! This beginner-friendly line dancing class breaks down each routine step-by-step so you can learn with confidence. After         learning the moves\, we'll put it all together and dance to the music. Each week           includes a quick review before we hit the floor\, so you'll always feel comfortable and ready to join in no experience needed! \n\n \n\nSign up required
X-ALT-DESC;FMTTYPE=text/html:<span style="color:#773E18"><span style="font-family:pt serif"><span style="font-size:14.0pt">Get ready to move\, laugh\, and have fun! This beginner-friendly line dancing class breaks down each routine step-by-step so you can learn with confidence. After&nbsp\;&nbsp\;&nbsp\;&nbsp\;&nbsp\;&nbsp\;&nbsp\;&nbsp\; learning the moves\, we&rsquo\;ll put it all together and dance to the music. Each week&nbsp\;&nbsp\;&nbsp\;&nbsp\;&nbsp\;&nbsp\;&nbsp\;&nbsp\;&nbsp\;&nbsp\; includes a quick review before we hit the floor\, so you&rsquo\;ll always feel comfortable and ready to join in&mdash\;no experience needed! </span></span></span><br />\n&nbsp\;<br />\nSign up required<br />\n&nbsp\;
LOCATION:31 High St\, Ste A Guilford\, ME 04443
UID:e.3605.10846
SEQUENCE:3
DTSTAMP:20260424T061704Z
URL:https://business.piscataquischamber.com/events/details/intro-to-line-dancing-classes-tuesdays-through-6-30-10846
END:VEVENT

END:VCALENDAR
