BEGIN:VCALENDAR
VERSION:2.0
PRODID:-//ChamberMaster//Event Calendar 2.0//EN
METHOD:PUBLISH
X-PUBLISHED-TTL:P3D
REFRESH-INTERVAL:P3D
CALSCALE:GREGORIAN
BEGIN:VEVENT
DTSTART:20260616T180000Z
DTEND:20260619T210000Z
X-MICROSOFT-CDO-ALLDAYEVENT:FALSE
SUMMARY:Gymnastics Camp
DESCRIPTION:Gymnastics camp with Beth Weatherbee\n\nRegister with Beth Weather\, 207-731-1112
X-ALT-DESC;FMTTYPE=text/html:Gymnastics camp with Beth Weatherbee<br />\nRegister with Beth Weather\, 207-731-1112
LOCATION:Friends of Community Fitness 31 High St\, Ste A Guilford\, ME 04443
UID:e.3605.10829
SEQUENCE:3
DTSTAMP:20260424T061340Z
URL:https://business.piscataquischamber.com/events/details/gymnastics-camp-10829
END:VEVENT

END:VCALENDAR
