BEGIN:VCALENDAR
VERSION:2.0
PRODID:-//ChamberMaster//Event Calendar 2.0//EN
METHOD:PUBLISH
X-PUBLISHED-TTL:P3D
REFRESH-INTERVAL:P3D
CALSCALE:GREGORIAN
BEGIN:VEVENT
DTSTART;VALUE=DATE:20240224
DTEND;VALUE=DATE:20240225
TRANSP:TRANSPARENT
X-MICROSOFT-CDO-ALLDAYEVENT:TRUE
SUMMARY:Full Moon Snowshoe at Law Farm Nature Trails
DESCRIPTION:Piscataquis County Soil & Water Conservation District (PCSWCD) will be hosting a FREE guided Full Moon Snowshoe with PCSWCD's Executive Director Sarah Robinson on Saturday February 24th at 7:30pm. \n\n\n\nThe February full moon\, also known as the "Snow Moon" is among the most beautiful moons of the year. It is a larger than average full moon since the moon is closer to the Earth during that time. This event will be held at the Law Farm Nature Trails in Dover-Foxcroft and participants will enjoy a first ever night time stroll on the 1.1 mile trail system. Sarah has been helping maintain the Law Farm Nature trails for the last 6 years and looks forward to sharing the changes that have been made for the recreational trail system\, fun facts\, wildlife tracking and tree ID along the way! Bring your own snowshoes as we navigate through the trails while we listen for wildlife and enjoy the Snow Moon! \n\nPlease bring a headlamp or small flashlight for safety\, proper clothing for winter hiking\, snowshoes\, a water bottle or warm drink for yourself to enjoy the adventure! \n\nWe will be meeting at the parking lot trailhead. Folks should plan an hour to hike and have fun on the trail! To register visit www.piscataquisswcd.org
X-ALT-DESC;FMTTYPE=text/html:<p>Piscataquis County Soil &amp\; Water Conservation District (PCSWCD) will be hosting a FREE guided Full Moon Snowshoe with PCSWCD&#39\;s Executive Director Sarah Robinson on Saturday February 24th at 7:30pm.&nbsp\;</p>\n\n<p><br />\nThe February full moon\, also known as the &quot\;Snow Moon&quot\; is among the most beautiful moons of the year. It is a larger than average full moon since the moon is closer to the Earth during that time. This event will be held at the Law Farm Nature Trails in Dover-Foxcroft and participants will enjoy a first ever night time stroll on the 1.1 mile trail system. Sarah has been helping maintain the Law Farm Nature trails for the last 6 years and looks forward to sharing the changes that have been made for the recreational trail system\, fun facts\, wildlife tracking and tree ID along the way! Bring your own snowshoes as we navigate through the trails while we listen for wildlife and enjoy the Snow Moon!&nbsp\;</p>\n\n<p>Please bring a headlamp or small flashlight for safety\, proper clothing for winter hiking\, snowshoes\, a water bottle or warm drink for&nbsp\;yourself to enjoy the adventure!&nbsp\;</p>\n\n<p>We will be meeting at the parking lot trailhead. Folks should plan an&nbsp\;hour to hike and have fun on the trail! To register visit <a href="http://www.piscataquisswcd.org">www.piscataquisswcd.org&nbsp\;</a></p>\n
LOCATION:The Law Farm Nature Trails\, Lee Cemetery Rd Dover-Foxcroft ME
UID:e.3605.3384
SEQUENCE:3
DTSTAMP:20260419T225835Z
URL:https://business.piscataquischamber.com/events/details/full-moon-snowshoe-at-law-farm-nature-trails-3384
END:VEVENT

END:VCALENDAR
