BEGIN:VCALENDAR
VERSION:2.0
PRODID:-//ChamberMaster//Event Calendar 2.0//EN
METHOD:PUBLISH
X-PUBLISHED-TTL:P3D
REFRESH-INTERVAL:P3D
CALSCALE:GREGORIAN
BEGIN:VEVENT
DTSTART:20230929T223000Z
DTEND:20230930T020000Z
X-MICROSOFT-CDO-ALLDAYEVENT:FALSE
SUMMARY:Full Moon Pickleball Party!
DESCRIPTION:Join us for the Harvest Full Moon on September 29th and the Hunter's Full Moon on October 28th for a pickleball party under the lights! Bring a lawn chair\, a snack to share and your pickleball paddle!
X-ALT-DESC;FMTTYPE=text/html:Join us for the Harvest Full Moon on September 29th and the Hunter&#39\;s Full Moon on October 28th for a pickleball party under the lights! Bring a lawn chair\, a snack to share and your pickleball paddle!
LOCATION:Friends of Community Fitness 31 High St\, Suite A Guilford\, ME 04443
UID:e.3605.2911
SEQUENCE:3
DTSTAMP:20260419T151521Z
URL:https://business.piscataquischamber.com/events/details/full-moon-pickleball-party-2911
END:VEVENT

END:VCALENDAR
