BEGIN:VCALENDAR
VERSION:2.0
PRODID:-//ChamberMaster//Event Calendar 2.0//EN
METHOD:PUBLISH
X-PUBLISHED-TTL:P3D
REFRESH-INTERVAL:P3D
CALSCALE:GREGORIAN
BEGIN:VEVENT
DTSTART:20230418T213000Z
DTEND:20230418T230000Z
X-MICROSOFT-CDO-ALLDAYEVENT:FALSE
SUMMARY:Free movie night | Space Jam: A New Legacy
DESCRIPTION:Join Northern Light Mayo Hospital for a free showing of Space Jam: A New Legacy on Tuesday\, April 18 at 5:30 pm at the Center Theatre in Dover-Foxcroft.\n\nSpace Jam\, A New Legacy\, released in 2021\, succeeds the original 1996 movie that became a cultural phenomenon. The new take on Space Jam features Lebron James and the Looney Tunes crew.\n\n\n\nMayo Hospital is sponsoring the movie night to provide children and families with a fun activity to enjoy during school vacation week. The movie\, popcorn\, and drinks will be provided at no cost courtesy of Mayo Hospital.\n\nAdmission to the movie will be first come\, first served on the evening of the show.
X-ALT-DESC;FMTTYPE=text/html:<p><span style="font-size:12px"><span style="font-family:arial\,helvetica\,sans-serif">Join Northern Light Mayo Hospital for a free showing of <em>Space Jam: A New Legacy</em> on Tuesday\, April 18 at 5:30 pm at the Center Theatre in Dover-Foxcroft.</span></span></p>\n\n<p><span style="font-size:12px"><span style="font-family:arial\,helvetica\,sans-serif"><em>Space Jam\, A New Legacy</em><span style="color:rgb(61\, 69\, 67)">\, released in 2021\, succeeds the original 1996 movie that became a cultural phenomenon. The new take on&nbsp\;</span><em>Space Jam</em><span style="color:rgb(61\, 69\, 67)">&nbsp\;features Lebron James and the Looney Tunes crew.</span><br />\n<br />\nMayo Hospital is sponsoring the movie night to provide children and families with a fun activity to enjoy during school vacation week. The movie\, popcorn\, and drinks will be provided at no cost courtesy of Mayo Hospital.</span></span></p>\n\n<p><span style="font-size:12px"><span style="font-family:arial\,helvetica\,sans-serif">Admission to the movie will be first come\, first served on the evening of the show.</span></span></p>\n
LOCATION:Center Theater\, 20 E Main St.\, Dover-Foxcroft
UID:e.3605.2536
SEQUENCE:3
DTSTAMP:20260421T043004Z
URL:https://business.piscataquischamber.com/events/details/free-movie-night-space-jam-a-new-legacy-2536
END:VEVENT

END:VCALENDAR
