BEGIN:VCALENDAR
VERSION:2.0
PRODID:-//ChamberMaster//Event Calendar 2.0//EN
METHOD:PUBLISH
X-PUBLISHED-TTL:P3D
REFRESH-INTERVAL:P3D
CALSCALE:GREGORIAN
BEGIN:VEVENT
DTSTART:20230810T130000Z
DTEND:20230810T180000Z
X-MICROSOFT-CDO-ALLDAYEVENT:FALSE
SUMMARY:Forrest G. Whitman Memorial Golf Tournament
DESCRIPTION:Teams will enjoy a spectacular day of golf at the stunning Mt. Kineo Golf Course. Your support provides local Greenville-area students with an opportunity to reach their educational goals and helps our patients in need. The tournament honors Forrest G. Whitman's long-time service to the community and dedication to CA Dean Hospital. Register here: CA Dean Forrest G. Whitman Golf Tournament - Northern Light Health Foundation - Northern Light Health
X-ALT-DESC;FMTTYPE=text/html:<span style="color:rgb(61\, 69\, 67)\; font-family:open sans\,helvetica\,arial\,sans-serif\; font-size:16px">Teams will enjoy&nbsp\;a spectacular day of golf at the stunning Mt. Kineo Golf Course.&nbsp\;Your support provides local Greenville-area students with an opportunity to&nbsp\;reach their educational goals and helps our patients in need. The tournament honors Forrest G. Whitman&rsquo\;s long-time service to the community and dedication to CA Dean Hospital. Register here:&nbsp\;</span><a href="https://northernlighthealth.org/cadeangolf">CA Dean Forrest G. Whitman Golf Tournament - Northern Light Health Foundation - Northern Light Health</a>
LOCATION:Mt. Kineo Golf Course\, Rockwood
UID:e.3605.2900
SEQUENCE:3
DTSTAMP:20260419T133940Z
URL:https://business.piscataquischamber.com/events/details/forrest-g-whitman-memorial-golf-tournament-2900
END:VEVENT

END:VCALENDAR
