BEGIN:VCALENDAR
VERSION:2.0
PRODID:-//ChamberMaster//Event Calendar 2.0//EN
METHOD:PUBLISH
X-PUBLISHED-TTL:P3D
REFRESH-INTERVAL:P3D
CALSCALE:GREGORIAN
BEGIN:VEVENT
DTSTART:20260623T210000Z
DTEND:20260813T220000Z
X-MICROSOFT-CDO-ALLDAYEVENT:FALSE
SUMMARY:Flag Football- Register by June 1st
DESCRIPTION:Youth Flag Football\n\nWeekly practices and scrimmages\n\nRegister by June 1st to receive a free t-shirt\n\nNo practice June 30th and July 1st
X-ALT-DESC;FMTTYPE=text/html:Youth Flag Football<br />\nWeekly practices and scrimmages<br />\nRegister by June 1st to receive a free t-shirt<br />\nNo practice June 30th and July 1st
LOCATION:31 High St\, Ste A Guilford\, ME 04443
UID:e.3605.10830
SEQUENCE:3
DTSTAMP:20260424T061935Z
URL:https://business.piscataquischamber.com/events/details/flag-football-register-by-june-1st-10830
END:VEVENT

END:VCALENDAR
