BEGIN:VCALENDAR
VERSION:2.0
PRODID:-//ChamberMaster//Event Calendar 2.0//EN
METHOD:PUBLISH
X-PUBLISHED-TTL:P3D
REFRESH-INTERVAL:P3D
CALSCALE:GREGORIAN
BEGIN:VEVENT
DTSTART;VALUE=DATE:20260402
DTEND;VALUE=DATE:20260403
TRANSP:TRANSPARENT
X-MICROSOFT-CDO-ALLDAYEVENT:TRUE
SUMMARY:Eat at Pat's Pizza for a good cause!
DESCRIPTION:Call a friend...make a date!\n\nThursday April 2nd \n\nTake the night off and EAT AT PAT'S PIZZA!\n\n10% of proceeds will be donated to support Friends of Community Fitness!\n\nDine-in or take out.  Lunch or dinner!  \n\nCall 207-564-2500 to place your order.\n\n\n\nHelp us keep rates low! Scholarships available for memberships!
X-ALT-DESC;FMTTYPE=text/html:<span style="font-size:22px\;"><strong><span style="color:#FF6600"><span style="font-family:pt serif">Call a friend...make a date!</span></span></strong><br />\n<strong><span style="color:#FF6600"><span style="font-family:pt serif">Thursday April 2nd </span></span></strong></span><br />\n<span style="font-family:pt serif"><span style="font-size:20.0pt">Take the night off and&nbsp\;</span></span><span style="font-size:22px\;"><strong><span style="color:#FF6600"><span style="font-family:pt serif">EAT AT PAT&rsquo\;S PIZZA!</span></span></strong></span><br />\n<span style="font-family:pt serif"><span style="font-size:20.0pt">10% of proceeds will be donated to support&nbsp\;</span></span><span style="font-family:pt serif"><span style="font-size:20.0pt">Friends of Community Fitness!</span></span><br />\n<strong><span style="font-family:pt serif"><span style="font-size:20.0pt">Dine-in or take out.&nbsp\; Lunch or dinner!&nbsp\; </span></span></strong><br />\n<span style="font-size:20px\;"><strong><span style="font-family:pt serif">Call 207-564-2500 to place your order.</span></strong></span><br />\n<br />\n<span style="font-family:pt serif"><span style="font-size:16.0pt">Help us keep rates low!&nbsp\;</span></span><span style="font-family:pt serif"><span style="font-size:16.0pt">Scholarships available for&nbsp\;</span></span><span style="font-family:pt serif"><span style="font-size:16.0pt">memberships!</span></span>
LOCATION:100 E Main St\, Dover-Foxcroft\, ME 04426
UID:e.3605.10652
SEQUENCE:3
DTSTAMP:20260422T111355Z
URL:https://business.piscataquischamber.com/events/details/eat-at-pat-s-pizza-for-a-good-cause-10652
END:VEVENT

END:VCALENDAR
