BEGIN:VCALENDAR
VERSION:2.0
PRODID:-//ChamberMaster//Event Calendar 2.0//EN
METHOD:PUBLISH
X-PUBLISHED-TTL:P3D
REFRESH-INTERVAL:P3D
CALSCALE:GREGORIAN
BEGIN:VEVENT
DTSTART:20220915T143000Z
DTEND:20220915T153000Z
X-MICROSOFT-CDO-ALLDAYEVENT:FALSE
SUMMARY:Creating a Content Calendar to Achieve your Social Media Goals
DESCRIPTION:With all the social media platforms that exist\, it can be quite overwhelming to understand where and when to market your business. WBC Social Media Consultant\, Katie Kelley\, will briefly discuss the audience demographics on each social media platform\, and do a deep dive into understanding the tips and tricks to establish an effective content calendar for your business. Planning ahead takes the guesswork out of your marketing plan and allows you to effectively reach your customers in a thoughtful and meaningful way. Register Today!
X-ALT-DESC;FMTTYPE=text/html:With all the social media platforms that exist\, it can be quite overwhelming to understand where and when to market your business. WBC Social Media Consultant\, Katie Kelley\, will briefly discuss the audience demographics on each social media platform\, and do a deep dive into understanding the tips and tricks to establish an effective content calendar for your business. Planning ahead takes the guesswork out of your marketing plan and allows you to effectively reach your customers in a thoughtful and meaningful way. Register Today!
LOCATION:ZOOM
UID:e.3605.2428
SEQUENCE:3
DTSTAMP:20260422T040519Z
URL:https://business.piscataquischamber.com/events/details/creating-a-content-calendar-to-achieve-your-social-media-goals-2428
END:VEVENT

END:VCALENDAR
