BEGIN:VCALENDAR
VERSION:2.0
PRODID:-//ChamberMaster//Event Calendar 2.0//EN
METHOD:PUBLISH
X-PUBLISHED-TTL:P3D
REFRESH-INTERVAL:P3D
CALSCALE:GREGORIAN
BEGIN:VEVENT
DTSTART:20220513T230000Z
DTEND:20220514T030000Z
X-MICROSOFT-CDO-ALLDAYEVENT:FALSE
SUMMARY:Contra Dance
DESCRIPTION:Contra Dance is on provided no major changes to COVID CDC reports in the Maine Highlands Region\n\n\n\nCaller: Allison Aldrich Smith\n\n\n\nMusic by: Some Reel People\n\n\n\n\n\nThanks to an anonymous donor\, this first dance will be available free of charge. However\, in order to keep future costs low\, please give generously!\n\n\n\nRaffle items\, refreshments and a good time to be had by all. We hope to see you there!
X-ALT-DESC;FMTTYPE=text/html:Contra Dance is on provided no major changes to COVID CDC reports in the Maine Highlands Region<br />\n<br />\nCaller: Allison Aldrich Smith<br />\n<br />\nMusic by: Some Reel People<br />\n<br />\n<br />\n<em>Thanks to an anonymous dono</em>r\, this first dance will be available free of charge. However\, in order to keep future costs low\, please give generously!<br />\n<br />\nRaffle items\, refreshments and a good time to be had by all. We hope to see you there!
LOCATION:
UID:e.3605.2208
SEQUENCE:3
DTSTAMP:20260424T201743Z
URL:https://business.piscataquischamber.com/events/details/contra-dance-2208
END:VEVENT

END:VCALENDAR
