BEGIN:VCALENDAR
VERSION:2.0
PRODID:-//ChamberMaster//Event Calendar 2.0//EN
METHOD:PUBLISH
X-PUBLISHED-TTL:P3D
REFRESH-INTERVAL:P3D
CALSCALE:GREGORIAN
BEGIN:VEVENT
DTSTART:20210703T210000Z
DTEND:20210703T220000Z
X-MICROSOFT-CDO-ALLDAYEVENT:FALSE
SUMMARY:Community BBQ (Social Distance Style)
DESCRIPTION:Please come join us for a community barbecue on the church lawn at 176 E Main St Dover-Foxcroft! We will do our best to respect and protect one another through social distancing and serving\, but we want to bless y'all with a "no frills meat from the grill" get together!\n\nPlease visit our event page on FB to let us know you plan on coming:  https://www.facebook.com/events/2957215447721045/
X-ALT-DESC;FMTTYPE=text/html:Please c<span style="font-size:14px">ome join us for a community barbecue&nbsp\;on the church lawn at 176 E Main St Dover-Foxcroft! We will do our best to respect and protect one another through social distancing and serving\, but we want to bless y&#39\;all with a &quot\;no frills meat from the grill&quot\; get together!<br />\nPlease visit our event page on FB to let us know you plan on coming:&nbsp\;&nbsp\;</span><a href="https://www.facebook.com/events/2957215447721045/">https://www.facebook.com/events/2957215447721045/</a>
LOCATION:Living Word Assembly of God 176 E Main St Dover-Foxcroft Maine 04426
UID:e.3605.739
SEQUENCE:3
DTSTAMP:20260425T124617Z
URL:https://business.piscataquischamber.com/events/details/community-bbq-social-distance-style-07-03-2021-739
END:VEVENT

END:VCALENDAR
