BEGIN:VCALENDAR
VERSION:2.0
PRODID:-//ChamberMaster//Event Calendar 2.0//EN
METHOD:PUBLISH
X-PUBLISHED-TTL:P3D
REFRESH-INTERVAL:P3D
CALSCALE:GREGORIAN
BEGIN:VEVENT
DTSTART:20210515T130000Z
DTEND:20210515T160000Z
X-MICROSOFT-CDO-ALLDAYEVENT:FALSE
SUMMARY:Bike Rodeo
DESCRIPTION:The Dover Foxcroft Kiwanis is teaming up with the Piscataquis Regional YMCA to support Bike Safety in our community with the annual Bike Rodeo. Members of Kiwanis will be handing out FREE bicycle helmets\, inspecting bikes for safety\, and providing an educational skills test. The event will include an educational session about bike safety on the road. The YMCA staff will lead a group bike ride around town at 11:00 concluding at the Y where each participant will receive a bag lunch to enjoy at Kiwanis Park. While this event is FREE\, we ask that you call the YMCA to register in advance to save your spot and help us manage the group size with social distancing. Each child that attends the bike rodeo will have the chance to enter a drawing to win a new bike.
X-ALT-DESC;FMTTYPE=text/html:The Dover Foxcroft Kiwanis is teaming up with the Piscataquis Regional YMCA to support Bike Safety in our community with the annual Bike Rodeo. Members of Kiwanis will be handing out FREE bicycle helmets\, inspecting bikes for safety\, and providing an educational skills test. The event will include an educational session about bike safety on the road. The YMCA staff will lead a group bike ride around town at 11:00 concluding at the Y where each participant will receive a bag lunch to enjoy at Kiwanis Park. While this event is FREE\, we ask that you call the YMCA to register in advance to save your spot and help us manage the group size with social distancing. Each child that attends the bike rodeo will have the chance to enter a drawing to win a new bike.
LOCATION:Piscataquis Regional YMCA 48 Park St. Dover-Foxcroft\, ME 04426
UID:e.3605.1025
SEQUENCE:3
DTSTAMP:20260425T235419Z
URL:https://business.piscataquischamber.com/events/details/bike-rodeo-1025
END:VEVENT

END:VCALENDAR
