BEGIN:VCALENDAR
VERSION:2.0
PRODID:-//ChamberMaster//Event Calendar 2.0//EN
METHOD:PUBLISH
X-PUBLISHED-TTL:P3D
REFRESH-INTERVAL:P3D
CALSCALE:GREGORIAN
BEGIN:VEVENT
DTSTART:20240906T200000Z
DTEND:20240907T000000Z
X-MICROSOFT-CDO-ALLDAYEVENT:FALSE
SUMMARY:Bigrock Centerpond Campgrounds ''Friday Night Karaoke''
DESCRIPTION:Come out and show off your singing voice in the activity room at Bigrock Centerpond. You may sing lyrics with an assisted voice or sing along with music the traditional karaoke way. All ages are welcome\, bring the whole family!
X-ALT-DESC;FMTTYPE=text/html:Come out and show off your singing voice in the activity room at Bigrock Centerpond. You may sing lyrics with an assisted voice or sing along with music the traditional karaoke way. All ages are welcome\, bring the whole family!
LOCATION:161 McNaughton Hill Rd. Sangerville Maine
UID:e.3605.4417
SEQUENCE:3
DTSTAMP:20260422T003848Z
URL:https://business.piscataquischamber.com/events/details/bigrock-centerpond-campgrounds-friday-night-karaoke-09-06-2024-4417
END:VEVENT

END:VCALENDAR
