BEGIN:VCALENDAR
VERSION:2.0
PRODID:-//ChamberMaster//Event Calendar 2.0//EN
METHOD:PUBLISH
X-PUBLISHED-TTL:P3D
REFRESH-INTERVAL:P3D
CALSCALE:GREGORIAN
BEGIN:VEVENT
DTSTART:20220721T220000Z
DTEND:20220721T230000Z
X-MICROSOFT-CDO-ALLDAYEVENT:FALSE
SUMMARY:Andrew Whitmer\, author of Here and Everywhere Else
DESCRIPTION:Andrew Whitmer\, author of Here and Everywhere Else\, a book about the history of nearby Monson\, and a professor at James Madison University\, will be at the library to discuss his book\, the history of the county\, and what he's uncovered in his research.
X-ALT-DESC;FMTTYPE=text/html:Andrew Whitmer\, author of Here and Everywhere Else\, a book about the history of nearby Monson\, and a professor at James Madison University\, will be at the library to discuss his book\, the history of the county\, and what he&#39\;s uncovered in his research.
LOCATION:Thompson Free Library
UID:e.3605.2176
SEQUENCE:3
DTSTAMP:20260424T152320Z
URL:https://business.piscataquischamber.com/events/details/andrew-whitmer-author-of-here-and-everywhere-else-2176
END:VEVENT

END:VCALENDAR
