BEGIN:VCALENDAR
VERSION:2.0
PRODID:-//ChamberMaster//Event Calendar 2.0//EN
METHOD:PUBLISH
X-PUBLISHED-TTL:P3D
REFRESH-INTERVAL:P3D
CALSCALE:GREGORIAN
BEGIN:VEVENT
DTSTART:20230315T143000Z
DTEND:20230315T153000Z
X-MICROSOFT-CDO-ALLDAYEVENT:FALSE
SUMMARY:A Deep Dive into Instagram Reels
DESCRIPTION:Are you stumped by Instagram Reels? WBC Social media consultant\, Katie Kelley\, will walk you through the basics of Instagram Reels including video creation tips using just your phone\, audio choices and helpful apps to make creating Reels a breeze. We will explore best practices and examples\, leaving time at the end for a Q + A session to ensure you leave feeling like you can go out and create Reels that day. Register Today! Hosted by: Coastal Enterprises\, Inc. Women's Business Center
X-ALT-DESC;FMTTYPE=text/html:Are you stumped by Instagram Reels? WBC Social media consultant\, Katie Kelley\, will walk you through the basics of Instagram Reels including video creation tips using just your phone\, audio choices and helpful apps to make creating Reels a breeze. We will explore best practices and examples\, leaving time at the end for a Q + A session to ensure you leave feeling like you can go out and create Reels that day. Register Today! Hosted by: Coastal Enterprises\, Inc. Women&#39\;s Business Center
LOCATION:Online via Zoom
UID:e.3605.2514
SEQUENCE:3
DTSTAMP:20260419T231811Z
URL:https://business.piscataquischamber.com/events/details/a-deep-dive-into-instagram-reels-2514
END:VEVENT

END:VCALENDAR
