BEGIN:VCALENDAR
VERSION:2.0
PRODID:-//ChamberMaster//Event Calendar 2.0//EN
METHOD:PUBLISH
X-PUBLISHED-TTL:P3D
REFRESH-INTERVAL:P3D
CALSCALE:GREGORIAN
BEGIN:VEVENT
DTSTART:20231007T130000Z
DTEND:20231007T190000Z
X-MICROSOFT-CDO-ALLDAYEVENT:FALSE
SUMMARY:5th Annual PVHS Craft Fair
DESCRIPTION:The 5th annual PVHS Craft Fair is a fundraiser event to support student activities throughout the school year. Over 30 craft artisans\, local non-profits\, and school clubs fill the gymnasium each year. There will be lunch options available and a basket raffle too!
X-ALT-DESC;FMTTYPE=text/html:The 5th annual PVHS Craft Fair is a fundraiser event to support student activities throughout the school year. Over 30 craft artisans\, local non-profits\, and school clubs fill the gymnasium each year. There will be lunch options available and a basket raffle too!
LOCATION:Penquis Valley High School\, Milo
UID:e.3605.2943
SEQUENCE:3
DTSTAMP:20260420T111543Z
URL:https://business.piscataquischamber.com/events/details/5th-annual-pvhs-craft-fair-2943
END:VEVENT

END:VCALENDAR
