BEGIN:VCALENDAR
VERSION:2.0
PRODID:-//ChamberMaster//Event Calendar 2.0//EN
METHOD:PUBLISH
X-PUBLISHED-TTL:P3D
REFRESH-INTERVAL:P3D
CALSCALE:GREGORIAN
BEGIN:VEVENT
DTSTART:20210925T140000Z
DTEND:20210925T180000Z
X-MICROSOFT-CDO-ALLDAYEVENT:FALSE
SUMMARY:2nd Annual Jim Mauzy Whoopie Pie Sale for Charity
DESCRIPTION:Whoopie pies galore in many varieties sold by donation. Half of the money goes to the Sebec Village Associates\, and half goes to the food pantry in Milo. The largest donor wins 3 dozen whoopie pies.
X-ALT-DESC;FMTTYPE=text/html:Whoopie pies galore in many varieties sold by donation. Half of the money goes to the Sebec Village Associates\, and half goes to the food pantry in Milo. The largest donor wins 3 dozen whoopie pies.
LOCATION:The Reading Room in Sebec Village 665 Sebec Village Road
UID:e.3605.745
SEQUENCE:3
DTSTAMP:20260426T033542Z
URL:https://business.piscataquischamber.com/events/details/2nd-annual-jim-mauzy-whoopie-pie-sale-for-charity-745
END:VEVENT

END:VCALENDAR
