BEGIN:VCALENDAR
VERSION:2.0
PRODID:-//ChamberMaster//Event Calendar 2.0//EN
METHOD:PUBLISH
X-PUBLISHED-TTL:P3D
REFRESH-INTERVAL:P3D
CALSCALE:GREGORIAN
BEGIN:VEVENT
DTSTART:20260613T140000Z
DTEND:20260613T200000Z
X-MICROSOFT-CDO-ALLDAYEVENT:FALSE
SUMMARY:2026 Whoopie Pie Festival VENDOR Application
DESCRIPTION:The 2026 Maine Whoopie Pie Festival is Scheduled for June 13th.\n\n\n\nWe hope you will consider joining us as a vendor for the SWEETEST DAY of the year in Piscataquis County!\n\n100+ Vendors\, lots of activities for kids\, live music & entertainment\, exhibitions\, great food\, contests\, and of course\,\n\nTHOUSANDS of Whoopie Pies sold by the best bakers in New England\, drawing crowds of up to 10\,000 in past years.\n\nVenue Confirmed!\n\nDue to the great success of last year's festival\, we will be returning to the Piscataquis Valley Fairgrounds\n\non Fairview Ave in Dover-Foxcroft for the 2026 Maine Whoopie Pie Festival\, allowing for more vendors\,\n\naccess to power\, better parking\, gate control\, and a wider footprint for a more enjoyable experience.\n\n\n\nPlease NOTE\, unfortunately there are NO DOGS ALLOWED\n\non the fairgrounds except for papered service animals. We apologize for this. \n\n\n\nIF YOU ARE A WHOOPIE PIE BAKER\, CLICK HERE.\n\nTO REGISTER BY MAIL*:\n\nPrint your paper application by clicking on it below\, and mail it to the address on the application with your payment.\n\n*Please note that registering by mail increases the likelihood that you will be waitlisted because of how quickly spots fill up online.
X-ALT-DESC;FMTTYPE=text/html:<p><span style="font-size:22px\;"><span style="font-family:tahoma\;"><strong>The 2026 Maine Whoopie Pie Festival is Scheduled for June 13th.</strong><br />\n<br />\nWe hope you will consider joining us as a vendor for the SWEETEST DAY of the year in Piscataquis County!<br />\n100+ Vendors\, lots of activities for kids\, live music &amp\; entertainment\, exhibitions\, great food\, contests\, and of course\,<br />\nTHOUSANDS of Whoopie Pies sold by the best bakers in New England\, drawing crowds of up to 10\,000 in past years.</span></span></p>\n\n<p><span style="font-size:22px\;"><span style="font-family:tahoma\;"><em><strong>Venue Confirmed!</strong></em><br />\nDue to the great success of last year&#39\;s festival\, we will be returning to the Piscataquis Valley Fairgrounds<br />\non Fairview Ave in Dover-Foxcroft for the 2026 Maine Whoopie Pie Festival\, allowing</span><span style="font-family:tahoma\;">&nbsp\;for more vendors\,<br />\naccess to power\, better parking\, gate control\, and a wider footprint for a more enjoyable experience.<br />\n<br />\n<strong>Please NOTE\, unfortunately there are NO DOGS ALLOWED<br />\non the fairgrounds except for papered&nbsp\;service animals. We apologize for this.&nbsp\;</strong></span><br />\n<br />\n<span style="font-family:verdana\;"><span style="font-family:tahoma\;"><a href="https://www.mainewhoopiepiefestival.com/2026bakersandvendors"><span style="background-color:#FFD700\;">IF YOU ARE A WHOOPIE PIE BAKER\, CLICK HERE.</span></a></span></span></span></p>\n\n<p><span style="color:#FFFFFF\;"><span style="font-family: verdana\;"><span style="font-size: 16px\;"><strong>TO REGISTER BY MAIL*:</strong><br />\nPrint your paper application by clicking on it below\, and mail it to the address on the application with your payment.</span></span></span></p>\n\n<p><span style="color:#FFFFFF\;"><span style="font-size: 12px\;"><em><font face="verdana">*Please note that registering by mail increases the likelihood that you will be waitlisted because of how quickly spots fill up online.</font></em></span></span></p>\n
LOCATION:PISCATAQUIS VALLEY FAIRGROUNDS on Fairview Ave. in Dover-Foxcroft.
UID:e.3605.10198
SEQUENCE:3
DTSTAMP:20260421T103944Z
URL:https://business.piscataquischamber.com/events/details/2026-whoopie-pie-festival-vendor-application-10198
END:VEVENT

END:VCALENDAR
