BEGIN:VCALENDAR
VERSION:2.0
PRODID:-//ChamberMaster//Event Calendar 2.0//EN
METHOD:PUBLISH
X-PUBLISHED-TTL:P3D
REFRESH-INTERVAL:P3D
CALSCALE:GREGORIAN
BEGIN:VEVENT
DTSTART:20260627T130000Z
DTEND:20260627T220000Z
X-MICROSOFT-CDO-ALLDAYEVENT:FALSE
SUMMARY:2026 REGISTRATION FOR Milo Post 41 BBQ\, Crafts and Hometown Sounds Festival
DESCRIPTION:An exciting addition to Milo's annual events\, offering unique crafts & products from 60 vendors\, food\, music\, a silent auction\, a bake sale\, and fun for the entire family. The Brownville Junction Legion will be providing the food and the Railyard Brewery will be offering refreshments.
X-ALT-DESC;FMTTYPE=text/html:<span style="font-size:14.0pt\;"><span style="font-family:comic sans ms\;">An exciting addition to Milo&rsquo\;s annual events\, offering unique crafts &amp\; products from 60 vendors\, food\, music\, a silent auction\, a bake sale\, and fun for the entire family. The Brownville Junction Legion will be providing the food and the Railyard Brewery will be offering refreshments.</span> </span><br />\n&nbsp\;
LOCATION:Milo\, ME
UID:e.3605.10820
SEQUENCE:3
DTSTAMP:20260424T070113Z
URL:https://business.piscataquischamber.com/events/details/2026-registration-for-milo-post-41-bbq-crafts-and-hometown-sounds-festival-10820
END:VEVENT

END:VCALENDAR
