BEGIN:VCALENDAR
VERSION:2.0
PRODID:-//ChamberMaster//Event Calendar 2.0//EN
METHOD:PUBLISH
X-PUBLISHED-TTL:P3D
REFRESH-INTERVAL:P3D
CALSCALE:GREGORIAN
BEGIN:VEVENT
DTSTART;VALUE=DATE:20220730
DTEND;VALUE=DATE:20220731
TRANSP:TRANSPARENT
X-MICROSOFT-CDO-ALLDAYEVENT:TRUE
SUMMARY:2022 Piscataquis River Festival
DESCRIPTION:Great summer fun! \n\nThe annual River Festival is returning after a brief government-ordered break!!\n\nCome join in the fun and enjoy the fantastic parade\, delicious food\, creative crafts\, talented musicians\, awesome fireworks...and more!!!\n\n \n\nFood vendor and Craft vendor applications can be printed from the link below and sent in as directed.\n\nThere is no need to register a float or other presence in the parade\, but it will begin along its route at 9:30 sharp\, so please be there by 8:30 for the line-up. There will be a porta-potty on site!!!\n\n \n\nFOOD VENDOR APPLICATION\n\nARTISAN/CRAFT VENDOR APPLICATION
X-ALT-DESC;FMTTYPE=text/html:<div background-color:="" color:="" dir="auto" font-size:="" segoe="" style="font-family: " ui="" white-space:="">\n<p background-color:="" color:="" dir="auto" font-size:="" segoe="" style="font-family: " ui="" white-space:=""><span style="font-size:18px\;"><span style="font-family:tahoma\;"><strong>Great summer fun!</strong> </span></span></p>\n\n<p background-color:="" color:="" dir="auto" font-size:="" segoe="" style="font-family: " ui="" white-space:=""><span style="font-size:18px\;"><span style="font-family:tahoma\;">The annual <strong>River Festival</strong> is returning after a brief government-ordered break!!</span></span></p>\n\n<p background-color:="" color:="" dir="auto" font-size:="" segoe="" style="font-family: " ui="" white-space:=""><span style="font-size:18px\;"><span style="font-family:tahoma\;">Come join in the fun and enjoy the fantastic parade\, delicious food\, creative crafts\, talented musicians\, awesome fireworks...and more!!!</span></span></p>\n\n<p background-color:="" color:="" dir="auto" font-size:="" segoe="" style="font-family: " ui="" white-space:="">&nbsp\;</p>\n\n<p background-color:="" color:="" dir="auto" font-size:="" segoe="" style="font-family: " ui="" white-space:=""><span style="font-size:18px\;"><span style="font-family:tahoma\;">Food vendor and Craft vendor applications can be printed from the link below and sent in as directed.</span></span></p>\n\n<p background-color:="" color:="" dir="auto" font-size:="" segoe="" style="font-family: " ui="" white-space:=""><span style="font-size:18px\;"><span style="font-family:tahoma\;">There is no need to register a float or other presence in the parade\, but it will begin along its route at 9:30 sharp\, so please be there by 8:30 for the line-up. There will&nbsp\;be a porta-potty on site!!!</span></span></p>\n\n<p>&nbsp\;</p>\n\n<p><span style="font-size:18px\;"><span style="font-family:tahoma\;"><a href="https://townofguilford.com/wp-content/uploads/Food-Vendor-Applicaiton.pdf">FOOD VENDOR APPLICATION</a></span></span></p>\n\n<p><span style="font-size:18px\;"><span style="font-family:tahoma\;"><a href="https://townofguilford.com/wp-content/uploads/Arts-Crafts-Informational-Reunion-Booth-Application.pdf">ARTISAN/CRAFT VENDOR APPLICATION</a></span></span></p>\n</div>\n
LOCATION:Guilford Ball Field
UID:e.3605.2195
SEQUENCE:3
DTSTAMP:20260424T153252Z
URL:https://business.piscataquischamber.com/events/details/2022-piscataquis-river-festival-2195
END:VEVENT

END:VCALENDAR
